BEGIN:VCALENDAR
VERSION:2.0
PRODID:-//Trendwise Consulting//SSCC Events//EN
CALSCALE:GREGORIAN
METHOD:PUBLISH
BEGIN:VEVENT
UID:1940-sulphurspringscc.com
DTSTAMP:20260425T175704Z
DTSTART:20260510T160000Z
DTEND:20260510T190000Z
SUMMARY:10th Mother&#8217\;s Day Brunch -11:00 A.M.-2:00 P.M.
DESCRIPTION:\n\nhttps://sulphurspringscc.com/events/10th-mothers-day-brunch-1100-a-m-200-p-m/
LOCATION:
URL:https://sulphurspringscc.com/events/10th-mothers-day-brunch-1100-a-m-200-p-m/
END:VEVENT
END:VCALENDAR
