BEGIN:VCALENDAR
VERSION:2.0
PRODID:-//Trendwise Consulting//SSCC Events//EN
CALSCALE:GREGORIAN
METHOD:PUBLISH
BEGIN:VEVENT
UID:1939-sulphurspringscc.com
DTSTAMP:20260425T192357Z
DTSTART:20260503T200000Z
DTEND:20260503T210000Z
SUMMARY:Couples Scramble -9 holes
DESCRIPTION:\n\nhttps://sulphurspringscc.com/events/couples-scramble-9-holes/
LOCATION:
URL:https://sulphurspringscc.com/events/couples-scramble-9-holes/
END:VEVENT
END:VCALENDAR
