BEGIN:VCALENDAR
VERSION:2.0
PRODID:-//Trendwise Consulting//SSCC Events//EN
CALSCALE:GREGORIAN
METHOD:PUBLISH
BEGIN:VEVENT
UID:1937-sulphurspringscc.com
DTSTAMP:20260425T192144Z
DTSTART:20260501T130000Z
DTEND:20260501T140000Z
SUMMARY:Chamber of Commerce Tourney -6-Person Scramble
DESCRIPTION:\n\nhttps://sulphurspringscc.com/events/chamber-of-commerce-tourney-6-person-scramble/
LOCATION:
URL:https://sulphurspringscc.com/events/chamber-of-commerce-tourney-6-person-scramble/
END:VEVENT
END:VCALENDAR
